BEGIN:VCALENDAR
VERSION:2.0
PRODID:-//ChamberMaster//Event Calendar 2.0//EN
METHOD:PUBLISH
X-PUBLISHED-TTL:P3D
REFRESH-INTERVAL:P3D
CALSCALE:GREGORIAN
BEGIN:VEVENT
DTSTART:20220315T170000Z
DTEND:20220315T180000Z
X-MICROSOFT-CDO-ALLDAYEVENT:FALSE
SUMMARY:Competitive Edge
DESCRIPTION:Step #1   Your Zone of Greatness\n\nOur focus this year is on "Signature Skills" and finding our "Zone of Greatness." Each of us has\n\nthat zone and when we find it\, we realize benefits that help us perform at a higher level\,\n\nregardless of our profession. The first step to finding your zone of greatness is your strengths.\n\nUnfortunately\, most people never go past taking a strength assessment and acquiring a basic identification of their strengths. There's so much more that we can do\, so let's go further.\n\nParticipants will learn the following:\n\n	Why your strengths are important\n	Two strengths assessments to help you identify your strengths\n	The Identify/Explore/Apply formula\n	The "Zone of Greatness" template and how you can design yours\n\nJoin us on Tuesday\, March 15 for lunch and a strengths discussion\, I promise will be worth your\n\ntime.
X-ALT-DESC;FMTTYPE=text/html:<span style="color:#FF0000\;"><strong>Step #1 &ndash\; Your Zone of Greatness</strong></span><br />\nOur focus this year is on &ldquo\;Signature Skills&rdquo\; and finding our &ldquo\;Zone of Greatness.&rdquo\; Each of us has<br />\nthat zone and when we find it\, we realize benefits that help us perform at a higher level\,<br />\nregardless of our profession. The first step to finding your zone of greatness is your strengths.<br />\nUnfortunately\, most people never go past taking a strength assessment and acquiring a basic identification of their strengths. There&rsquo\;s so much more that we can do\, so let&rsquo\;s go further.<br />\nParticipants will learn the following:\n<ul>\n	<li>Why your strengths are important</li>\n	<li>Two strengths assessments to help you identify your strengths</li>\n	<li>The Identify/Explore/Apply formula</li>\n	<li>The &ldquo\;Zone of Greatness&rdquo\; template and how you can design yours</li>\n</ul>\nJoin us on Tuesday\, March 15 for lunch and a strengths discussion\, I promise will be worth your<br />\ntime.
LOCATION:Cedar Hill Chamber 300 Houston St Cedar Hill\, TX 75104
UID:e.1426.16226
SEQUENCE:3
DTSTAMP:20260424T063859Z
URL:https://www.cedarhillchamber.org/events/details/competitive-edge-03-15-2022-16226
END:VEVENT

END:VCALENDAR
