BEGIN:VCALENDAR
VERSION:2.0
PRODID:-//ChamberMaster//Event Calendar 2.0//EN
METHOD:PUBLISH
X-PUBLISHED-TTL:P3D
REFRESH-INTERVAL:P3D
CALSCALE:GREGORIAN
BEGIN:VEVENT
DTSTART:20200226T150000Z
DTEND:20200226T190000Z
X-MICROSOFT-CDO-ALLDAYEVENT:FALSE
SUMMARY:CHISD Future Fair
DESCRIPTION:Cedar Hill ISD Hosts Inaugural Future Fair \n \n\n(Cedar Hill\, TX) Cedar Hill ISD is hosting its first ever career and technical education career fair focused solely on high school students. The CTE "Future Fair"\, will bring together local employers\, experienced professionals and scholars currently enrolled in the district's CTE practicum courses. \n\n\n\n	\n		\n		\n		\n		\n	\n	\n		\n			 \n			"The CTE Future Fair is an event that exposes our scholars to professional pathways while \n\n			building essential networking and interview skills to equip them for professional success\," said\n\n			Tyesha Lowe\, CHISD Executive Director of Career and Technical Education.\n			\n			 \n			 \n			 \n		\n	\n\n\n\nOver 120 practicum scholars from CHISD career and technical education pathways will participate in the event. The fair will include an industry strand where professionals will promote their career choice through panel discussions and/or interactive demonstrations based on career clusters.\n\nResource One Credit Union will provide sessions on financial literacy\, Expansion Solutions will help scholars with resume building and interview skills.\n\nThe fair is scheduled for Wednesday\, February 26\, 2020 at the Cedar Hill Ninth Grade Center from 9 am to 1pm.\n\n  \n\nFor more information on Cedar Hill ISD\, visit chisd.net/CTE.
X-ALT-DESC;FMTTYPE=text/html:<p dir="ltr" style="color: rgb(34\, 34\, 34)\; font-family: verdana\, sans-serif\; font-size: small\; line-height: 1.2\; text-align: center\; margin-top: 0pt\; margin-bottom: 0pt\;"><span style="font-size: 11pt\; font-family: Verdana\; background-color: transparent\; font-weight: 700\; font-variant-numeric: normal\; font-variant-east-asian: normal\; vertical-align: baseline\; white-space: pre-wrap\;">Cedar Hill ISD Hosts Inaugural Future Fair&nbsp\;</span></p>\n&nbsp\;\n\n<p dir="ltr" style="color: rgb(34\, 34\, 34)\; font-family: verdana\, sans-serif\; font-size: small\; line-height: 1.38\; text-align: justify\; margin-top: 0pt\; margin-bottom: 0pt\;"><span style="font-size: 12pt\; font-family: Arial\; background-color: transparent\; font-weight: 700\; font-variant-numeric: normal\; font-variant-east-asian: normal\; vertical-align: baseline\; white-space: pre-wrap\;">(Cedar Hill\, TX)</span><span style="font-size: 12pt\; font-family: Arial\; background-color: transparent\; font-variant-numeric: normal\; font-variant-east-asian: normal\; vertical-align: baseline\; white-space: pre-wrap\;"> Cedar Hill ISD is hosting its first ever career and technical education career fair focused solely on high school students. The CTE &ldquo\;Future Fair&rdquo\;\, will bring together local employers\, experienced professionals and scholars currently enrolled in the district&rsquo\;s CTE practicum courses.&nbsp\;</span></p>\n\n<div align="left" dir="ltr" style="color: rgb(34\, 34\, 34)\; font-family: verdana\, sans-serif\; font-size: small\; margin-left: 0pt\;">\n<table style="border: none\; border-collapse: collapse\;">\n	<colgroup>\n		<col width="669" />\n		<col width="7" />\n		<col width="17" />\n		<col width="15" />\n	</colgroup>\n	<tbody>\n		<tr style="height: 25pt\;">\n			<td style="font-family: Roboto\, RobotoDraft\, Helvetica\, Arial\, sans-serif\; margin: 0px\; vertical-align: top\; overflow: hidden\;">&nbsp\;\n			<p dir="ltr" style="line-height: 1.38\; margin-top: 0pt\; margin-bottom: 0pt\;"><span style="font-size: 12pt\; font-family: Arial\; color: rgb(0\, 0\, 0)\; background-color: transparent\; font-variant-numeric: normal\; font-variant-east-asian: normal\; vertical-align: baseline\; white-space: pre-wrap\;">&ldquo\;The CTE Future Fair is an event that exposes our scholars to professional pathways while&nbsp\;</span></p>\n\n			<p dir="ltr" style="line-height: 1.38\; margin-top: 0pt\; margin-bottom: 0pt\;"><span style="font-size: 12pt\; font-family: Arial\; color: rgb(0\, 0\, 0)\; background-color: transparent\; font-variant-numeric: normal\; font-variant-east-asian: normal\; vertical-align: baseline\; white-space: pre-wrap\;">building essential networking and interview skills to equip them for professional success\,&rdquo\; said</span></p>\n\n			<p dir="ltr" style="line-height: 1.38\; margin-top: 0pt\; margin-bottom: 0pt\;"><span style="font-size: 12pt\; font-family: Arial\; color: rgb(0\, 0\, 0)\; background-color: transparent\; font-variant-numeric: normal\; font-variant-east-asian: normal\; vertical-align: baseline\; white-space: pre-wrap\;">Tyesha Lowe\, CHISD Executive Director of Career and Technical Education.</span></p>\n			</td>\n			<td style="font-family: Roboto\, RobotoDraft\, Helvetica\, Arial\, sans-serif\; margin: 0px\; vertical-align: top\; padding: 5pt\; overflow: hidden\;">&nbsp\;</td>\n			<td style="font-family: Roboto\, RobotoDraft\, Helvetica\, Arial\, sans-serif\; margin: 0px\; vertical-align: top\; padding: 5pt\; overflow: hidden\;">&nbsp\;</td>\n			<td style="font-family: Roboto\, RobotoDraft\, Helvetica\, Arial\, sans-serif\; margin: 0px\; vertical-align: top\; padding: 5pt\; overflow: hidden\;">&nbsp\;</td>\n		</tr>\n	</tbody>\n</table>\n</div>\n\n<p dir="ltr" style="color: rgb(34\, 34\, 34)\; font-family: verdana\, sans-serif\; font-size: small\; line-height: 1.38\; text-align: justify\; margin-top: 6pt\; margin-bottom: 0pt\;"><span style="font-size: 12pt\; font-family: Arial\; color: rgb(0\, 0\, 0)\; background-color: transparent\; font-variant-numeric: normal\; font-variant-east-asian: normal\; vertical-align: baseline\; white-space: pre-wrap\;">Over 120 practicum scholars from CHISD career and technical education pathways will participate in the event. The fair will include an industry strand where professionals will promote their career choice through panel discussions and/or interactive demonstrations based on career clusters.</span></p>\n\n<p dir="ltr" style="color: rgb(34\, 34\, 34)\; font-family: verdana\, sans-serif\; font-size: small\; line-height: 1.38\; text-align: justify\; margin-top: 0pt\; margin-bottom: 0pt\; padding: 6pt 0pt 0pt\;"><span style="font-size: 12pt\; font-family: Arial\; color: rgb(0\, 0\, 0)\; background-color: transparent\; font-variant-numeric: normal\; font-variant-east-asian: normal\; vertical-align: baseline\; white-space: pre-wrap\;">Resource One Credit Union will provide sessions on financial literacy\, Expansion Solutions will help scholars with resume building and interview skills.</span></p>\n\n<p dir="ltr" style="color: rgb(34\, 34\, 34)\; font-family: verdana\, sans-serif\; font-size: small\; line-height: 1.38\; text-align: justify\; margin-top: 0pt\; margin-bottom: 0pt\; padding: 6pt 0pt 0pt\;"><span style="font-size: 12pt\; font-family: Arial\; color: rgb(0\, 0\, 0)\; background-color: transparent\; font-variant-numeric: normal\; font-variant-east-asian: normal\; vertical-align: baseline\; white-space: pre-wrap\;">The fair is scheduled for Wednesday\, February 26\, 2020 at the Cedar Hill Ninth Grade Center from 9 am to 1pm.</span></p>\n\n<p dir="ltr" style="color: rgb(34\, 34\, 34)\; font-family: verdana\, sans-serif\; font-size: small\; line-height: 1.38\; text-align: justify\; margin-top: 0pt\; margin-bottom: 0pt\; padding: 6pt 0pt 0pt\;"><span style="font-size: 12pt\; font-family: Arial\; color: rgb(0\, 0\, 0)\; background-color: transparent\; font-variant-numeric: normal\; font-variant-east-asian: normal\; vertical-align: baseline\; white-space: pre-wrap\;">&nbsp\;&nbsp\;</span></p>\n\n<p dir="ltr" style="color: rgb(34\, 34\, 34)\; font-family: verdana\, sans-serif\; font-size: small\; line-height: 1.38\; text-align: justify\; margin-top: 0pt\; margin-bottom: 0pt\;"><span style="font-size: 12pt\; font-family: Arial\; color: rgb(0\, 0\, 0)\; background-color: transparent\; font-variant-numeric: normal\; font-variant-east-asian: normal\; vertical-align: baseline\; white-space: pre-wrap\;">For more information on Cedar Hill ISD\, visit <a data-saferedirecturl="https://www.google.com/url?q=http://chisd.net/CTE&amp\;source=gmail&amp\;ust=1582039810432000&amp\;usg=AFQjCNGOhEYlDKc7UhM5R6-ULPytGUl8ww" href="http://chisd.net/CTE" style="color: rgb(17\, 85\, 204)\;" target="_blank">chisd.net/CTE</a>.</span></p>\n
LOCATION:Cedar Hill Ninth Grade Center
UID:e.1426.16133
SEQUENCE:3
DTSTAMP:20260425T235627Z
URL:https://www.cedarhillchamber.org/events/details/chisd-future-fair-16133
END:VEVENT

END:VCALENDAR
