BEGIN:VCALENDAR
VERSION:2.0
PRODID:-//ChamberMaster//Event Calendar 2.0//EN
METHOD:PUBLISH
X-PUBLISHED-TTL:P3D
REFRESH-INTERVAL:P3D
CALSCALE:GREGORIAN
BEGIN:VEVENT
DTSTART;VALUE=DATE:20220327
DTEND;VALUE=DATE:20220328
TRANSP:TRANSPARENT
X-MICROSOFT-CDO-ALLDAYEVENT:TRUE
SUMMARY:Chicken with the Chief
DESCRIPTION:I would like to invite you to the Chicken with the Chief event on Sunday at \n\nFluffy's Chicken\n\n635 E. Pleasant Run Rd. Suite A Cedar Hill\, Texas 75104\n\nChief Reyes will a speaking with the community about what's happening in Cedar Hill.\n\nCome out and enjoy the refreshments and giveaways ! \n\n\n\nWe would like to thank our sponors:\n\nThe Edda Mae Foundation \, Target (Cedar Hill)\, Target (Dallas South)\, Walmart (Cedar Hill)
X-ALT-DESC;FMTTYPE=text/html:I would like to invite you to the Chicken with the Chief event on Sunday at&nbsp\;<br />\nFluffy&#39\;s Chicken<br />\n635 E. Pleasant Run Rd. Suite A Cedar Hill\, Texas 75104<br />\nChief Reyes will a speaking with the community about what&#39\;s happening in Cedar Hill.<br />\nCome out and enjoy the refreshments and giveaways !&nbsp\;<br />\n<br />\nWe would like to thank our sponors:<br />\nThe Edda Mae Foundation \, Target (Cedar Hill)\, Target (Dallas South)\, Walmart (Cedar Hill)<br />\n&nbsp\;
LOCATION:635 E. PLEASANT RUN RD Suite A Cedar Hill\, Texas 75104
UID:e.1426.17570
SEQUENCE:3
DTSTAMP:20260424T063859Z
URL:https://www.cedarhillchamber.org/events/details/chicken-with-the-chief-17570
END:VEVENT

END:VCALENDAR
