BEGIN:VCALENDAR
VERSION:2.0
PRODID:-//ChamberMaster//Event Calendar 2.0//EN
METHOD:PUBLISH
X-PUBLISHED-TTL:P3D
REFRESH-INTERVAL:P3D
CALSCALE:GREGORIAN
BEGIN:VEVENT
DTSTART:20220825T220000Z
DTEND:20220826T000000Z
X-MICROSOFT-CDO-ALLDAYEVENT:FALSE
SUMMARY:Chamber Women's Happy Hour
DESCRIPTION:Connect with other women business owners each month. We rotate between a lunch and a happy hour. Join us this month for happy hour!
X-ALT-DESC;FMTTYPE=text/html:Connect with other women business owners each month. We rotate between a lunch and a happy hour. Join us this month for happy hour!
LOCATION:On The Border 350 E FM1382 Cedar Hill\, TX 75104
UID:e.1426.17709
SEQUENCE:3
DTSTAMP:20260423T220542Z
URL:https://www.cedarhillchamber.org/events/details/chamber-women-s-happy-hour-08-25-2022-17709
END:VEVENT

END:VCALENDAR
