BEGIN:VCALENDAR
VERSION:2.0
PRODID:-//ChamberMaster//Event Calendar 2.0//EN
METHOD:PUBLISH
X-PUBLISHED-TTL:P3D
REFRESH-INTERVAL:P3D
CALSCALE:GREGORIAN
BEGIN:VEVENT
DTSTART:20240926T223000Z
DTEND:20240927T000000Z
X-MICROSOFT-CDO-ALLDAYEVENT:FALSE
SUMMARY:Chamber Night Out
DESCRIPTION:
X-ALT-DESC;FMTTYPE=text/html:
LOCATION:Hillside Social Hillside Village Shopping Center 305 FM-W 1382 #314 Cedar Hill\, TX 75104
UID:e.1426.19929
SEQUENCE:3
DTSTAMP:20260423T035240Z
URL:https://www.cedarhillchamber.org/events/details/chamber-night-out-19929
END:VEVENT

END:VCALENDAR
