BEGIN:VCALENDAR
VERSION:2.0
PRODID:-//ChamberMaster//Event Calendar 2.0//EN
METHOD:PUBLISH
X-PUBLISHED-TTL:P3D
REFRESH-INTERVAL:P3D
CALSCALE:GREGORIAN
BEGIN:VEVENT
DTSTART:20200110T133000Z
DTEND:20200110T143000Z
X-MICROSOFT-CDO-ALLDAYEVENT:FALSE
SUMMARY:Chamber Executive Committee Meeting
DESCRIPTION:We look forward to seeing you at the upcoming Cedar Hill Chamber Executive Board Meeting
X-ALT-DESC;FMTTYPE=text/html:We look forward to seeing you at the upcoming Cedar Hill Chamber Executive Board Meeting&nbsp\;
LOCATION:Cedar HIll Chamber Board Room
UID:e.1426.14512
SEQUENCE:3
DTSTAMP:20260426T014252Z
URL:https://www.cedarhillchamber.org/events/details/chamber-executive-committee-meeting-01-10-2020-14512
END:VEVENT

END:VCALENDAR
