BEGIN:VCALENDAR
VERSION:2.0
PRODID:-//ChamberMaster//Event Calendar 2.0//EN
METHOD:PUBLISH
X-PUBLISHED-TTL:P3D
REFRESH-INTERVAL:P3D
CALSCALE:GREGORIAN
BEGIN:VEVENT
DTSTART:20200502T120000Z
DTEND:20200503T000000Z
X-MICROSOFT-CDO-ALLDAYEVENT:FALSE
SUMMARY:Cedar Hill General Election
DESCRIPTION:City Council Members Place 2 and Place 6 are up for election.\n\nSchool Board of Trustees Place 3\, Place 4\, and Place 5 are up for election.
X-ALT-DESC;FMTTYPE=text/html:City Council Members Place 2 and Place 6 are up for election.<br />\nSchool Board of Trustees Place 3\, Place 4\, and Place 5 are up for election.
LOCATION:
UID:e.1426.15843
SEQUENCE:3
DTSTAMP:20260425T185716Z
URL:https://www.cedarhillchamber.org/events/details/cedar-hill-general-election-15843
END:VEVENT

END:VCALENDAR
