BEGIN:VCALENDAR
VERSION:2.0
PRODID:-//ChamberMaster//Event Calendar 2.0//EN
METHOD:PUBLISH
X-PUBLISHED-TTL:P3D
REFRESH-INTERVAL:P3D
CALSCALE:GREGORIAN
BEGIN:VEVENT
DTSTART:20220718T233000Z
DTEND:20220719T010000Z
X-MICROSOFT-CDO-ALLDAYEVENT:FALSE
SUMMARY:Canna Summer Wellness Summit: Stress Management - Breathe\, Strech\, Shake\, Let It Go!
DESCRIPTION:Join me on Monday night of this week long wellness summit\, as I share practical practices that support our internal Cannabinoid System in creating homeostasis by reducing our stress hormone levels. During this virtual event I will share information on how our body's Endocannabinoid System naturally makes cannabinoids (i.e. CBD). Then I will share 4 practical methods to support this system. Participants can receive 1 CE per session that they attend.
X-ALT-DESC;FMTTYPE=text/html:Join me on Monday night of this week long wellness summit\, as I share practical practices that support our internal Cannabinoid System in creating homeostasis by reducing our stress hormone levels. During this virtual event I will share information on how our body&#39\;s Endocannabinoid System naturally makes cannabinoids (i.e. CBD). Then I will share 4 practical methods to support this system. Participants can receive 1 CE per session that they attend.&nbsp\;
LOCATION:Virtual
UID:e.1426.17791
SEQUENCE:3
DTSTAMP:20260423T233825Z
URL:https://www.cedarhillchamber.org/events/details/canna-summer-wellness-summit-stress-management-breathe-strech-shake-let-it-go-17791
END:VEVENT

END:VCALENDAR
