BEGIN:VCALENDAR
VERSION:2.0
PRODID:-//ChamberMaster//Event Calendar 2.0//EN
METHOD:PUBLISH
X-PUBLISHED-TTL:P3D
REFRESH-INTERVAL:P3D
CALSCALE:GREGORIAN
BEGIN:VEVENT
DTSTART:20240411T233000Z
DTEND:20240412T013000Z
X-MICROSOFT-CDO-ALLDAYEVENT:FALSE
SUMMARY:Candidate Forum 2024
DESCRIPTION:To submit a question click link below. Due to time constraints and the anticipated number of questions we will do a random drawing of all submitted questions. Questions must be applicable to ALL candidates.\n\n\n\nCLICK HERE TO SUBMIT A QUESTION \n\nCandidates on the Ballot\n\n City Council Place 1\n\n Gerald Malone\n\nShirley Daniels \n\nCity Council Place 2\n\nBertha Middlebrooks\n\nChad A. McCurdy\n\n\n \n\nCHISD School Board\n\nTrustee Place 6\n\nJacquetta Leen Haygood\n\nAyanna Cabrera - Cook\n\n\n\nTrustee Place 7\n\nLester E. Singleton\n\nShomega Daniels
X-ALT-DESC;FMTTYPE=text/html:<span style="font-size:12px\;"><span style="font-family:arial\;"><strong>To submit a question click link below. Due to time constraints and the anticipated number of questions we will do a random drawing of all submitted questions. Questions must be applicable to ALL candidates.</strong><br />\n<br />\n<a href="https://docs.google.com/forms/d/e/1FAIpQLSf6gswAoHpRrIUklTuYP_-ajhRsyjfZAxfFrq1gMRvlKXpvOA/viewform?usp=pp_url"><strong>CLICK HERE TO SUBMIT A QUESTION&nbsp\;</strong></a></span></span>\n<div class="gmail_default" style="text-size-adjust: auto\; font-family: georgia\, serif\; font-size: small\; color: rgb(0\, 0\, 0)\;">\n<div style="text-align: center\;"><b style="color: rgb(0\, 0\, 0)\; font-family: georgia\, serif\; font-size: small\;">Candidates on the Ballot</b></div>\n\n<p font-size:="" open="" style="box-sizing: border-box\; margin-top: 0px\; margin-bottom: 1.4em\; border: 0px none\; color: rgb(0\, 0\, 0)\; text-align: center\;" text-align:="">&nbsp\;<span style="box-sizing: border-box\; font-weight: 700\;"><span style="box-sizing: border-box\; margin: 0px\; padding: 0px\; border: 0px\; font-weight: inherit\; font-style: inherit\; font-size: 14.4px\; font-family: inherit\; vertical-align: baseline\; outline: 0px\; text-decoration-line: underline\;">City Council Place 1</span></span></p>\n\n<p font-size:="" open="" style="box-sizing: border-box\; margin-top: 0px\; margin-bottom: 1.4em\; border: 0px none\; color: rgb(0\, 0\, 0)\; text-align: center\;" text-align:="">&nbsp\;Gerald Malone</p>\n\n<p font-size:="" open="" style="box-sizing: border-box\; margin-top: 0px\; margin-bottom: 1.4em\; border: 0px none\; color: rgb(0\, 0\, 0)\; text-align: center\;" text-align:="">Shirley Daniels&nbsp\;</p>\n\n<p font-size:="" open="" style="box-sizing: border-box\; margin-top: 0px\; margin-bottom: 1.4em\; border: 0px none\; color: rgb(0\, 0\, 0)\; text-align: center\;" text-align:=""><span style="box-sizing: border-box\; font-weight: 700\;"><span style="box-sizing: border-box\; margin: 0px\; padding: 0px\; border: 0px\; font-weight: inherit\; font-style: inherit\; font-size: 14.4px\; font-family: inherit\; vertical-align: baseline\; outline: 0px\; text-decoration-line: underline\;">City Council Place 2</span></span></p>\n\n<p font-size:="" open="" style="box-sizing: border-box\; margin-top: 0px\; margin-bottom: 1.4em\; border: 0px none\; color: rgb(0\, 0\, 0)\; text-align: center\;" text-align:="">Bertha Middlebrooks</p>\n\n<p font-size:="" open="" style="box-sizing: border-box\; margin-top: 0px\; margin-bottom: 1.4em\; border: 0px none\; color: rgb(0\, 0\, 0)\; text-align: center\;" text-align:="">Chad A. McCurdy</p>\n</div>\n\n<div class="gmail_default" style="text-size-adjust: auto\; font-family: georgia\, serif\; font-size: small\; color: rgb(0\, 0\, 0)\; text-align: center\;">&nbsp\;</div>\n\n<div class="gmail_default" style="text-size-adjust: auto\; font-family: georgia\, serif\; font-size: small\; color: rgb(0\, 0\, 0)\; text-align: center\;"><span style="font-size:12px\;"><u><b>CHISD School Board</b></u></span></div>\n\n<div class="gmail_default" style="text-size-adjust: auto\; font-family: georgia\, serif\; font-size: small\; color: rgb(0\, 0\, 0)\; text-align: center\;"><span style="font-family:arial\;"><b style="color: rgb(0\, 0\, 0)\; font-family: georgia\, serif\; font-size: small\;">Trustee Place 6</b></span><br />\n<span style="font-family:arial\;"><span style="color: rgb(0\, 0\, 0)\;">Jacquetta Leen Haygood<br />\nAyanna Cabrera - Cook</span></span><br />\n<br />\n<span style="font-family:arial\;"><b style="color: rgb(0\, 0\, 0)\; font-family: georgia\, serif\; font-size: small\;">Trustee Place 7</b></span><br />\n<span style="font-family:arial\;"><span style="color: rgb(0\, 0\, 0)\;">Lester E. Singleton<br />\nShomega Daniels</span></span><br />\n&nbsp\;</div>\n
LOCATION:Alan E. Sims Cedar Hill Recreation Center 310 E. Parkerville Rd Cedar Hill\, TX 75104
UID:e.1426.19059
SEQUENCE:3
DTSTAMP:20260423T180935Z
URL:https://www.cedarhillchamber.org/events/details/candidate-forum-2024-19059
END:VEVENT

END:VCALENDAR
