BEGIN:VCALENDAR
VERSION:2.0
PRODID:-//ChamberMaster//Event Calendar 2.0//EN
METHOD:PUBLISH
X-PUBLISHED-TTL:P3D
REFRESH-INTERVAL:P3D
CALSCALE:GREGORIAN
BEGIN:VEVENT
DTSTART:20230413T233000Z
DTEND:20230414T013000Z
X-MICROSOFT-CDO-ALLDAYEVENT:FALSE
SUMMARY:Candidate Forum 2023
DESCRIPTION:To submit a question click link below. Due to time constraints and the anticipated number of questions we will do a random drawing of all submitted questions. Questions must be applicable to ALL candidates.\n\n\n\nCLICK HERE TO SUBMIT A QUESTION \n\n\nCandidates on the Ballot\n\n\n\nCity Election\n\nCity Council Place 2\n\nDaniel C. Haydin\, Jr.\n\nCity Council Place 6\n\nGerald L. Malone\n\nBertha Middlebrooks\n\nKiphani Allen\n\nMaranda Auzenne\n\nDarian Pace\n\n \n\nCHISD School Board\n\nTrustee Place 3\n\nMrs. Ramona Ross-Bacon\n\nTrustee Place 4\n\nDr. Denise Roache-Davis\n\nTrustee Place 5\n\nKim Rimmer\n\nWill Campbell\n\nDenishea Williams
X-ALT-DESC;FMTTYPE=text/html:<span style="font-size:12px\;"><span style="font-family:arial\;"><strong>To submit a question click link below. Due to time constraints and the anticipated number of questions we will do a random drawing of all submitted questions. Questions must be applicable to ALL candidates.</strong><br />\n<br />\n<strong><a href="https://forms.gle/FSh458C8HF6csnCL9">CLICK HERE TO SUBMIT A QUESTION&nbsp\;</a></strong></span></span>\n<div class="gmail_default" style="text-size-adjust: auto\; font-family: georgia\, serif\; font-size: small\; color: rgb(0\, 0\, 0)\;"><br />\n<b style="color: rgb(0\, 0\, 0)\; font-family: georgia\, serif\; font-size: small\;">Candidates on the Ballot</b><br />\n<br />\n<span style="font-size:12px\;"><u><b style="color: rgb(0\, 0\, 0)\; font-family: georgia\, serif\; font-size: small\;">City Election</b></u></span><br />\n<span style="font-size:12px\;"><b style="color: rgb(0\, 0\, 0)\; font-family: georgia\, serif\; font-size: small\;">City Council Place 2</b></span><br />\n<span style="font-family:arial\;">Daniel C. Haydin\, Jr.</span><br />\n<span style="font-size:12px\;"><b style="color: rgb(0\, 0\, 0)\; font-family: georgia\, serif\; font-size: small\;">City Council Place 6</b></span><br />\n<span style="font-family:arial\;">Gerald L. Malone<br />\nBertha Middlebrooks<br />\nKiphani Allen<br />\nMaranda Auzenne<br />\nDarian Pace</span></div>\n\n<div class="gmail_default" style="text-size-adjust: auto\; font-family: georgia\, serif\; font-size: small\; color: rgb(0\, 0\, 0)\;">&nbsp\;</div>\n\n<div class="gmail_default" style="text-size-adjust: auto\; font-family: georgia\, serif\; font-size: small\; color: rgb(0\, 0\, 0)\;"><span style="font-size:12px\;"><u><b>CHISD School Board</b></u></span></div>\n\n<div class="gmail_default" style="text-size-adjust: auto\; font-family: georgia\, serif\; font-size: small\; color: rgb(0\, 0\, 0)\;"><span style="font-family:arial\;"><b style="color: rgb(0\, 0\, 0)\; font-family: georgia\, serif\; font-size: small\;">Trustee Place 3</b></span><br />\n<span style="font-family:arial\;"><span style="color: rgb(0\, 0\, 0)\;">Mrs. Ramona Ross-Bacon</span></span><br />\n<span style="font-family:arial\;"><b style="color: rgb(0\, 0\, 0)\; font-family: georgia\, serif\; font-size: small\;">Trustee Place 4</b></span><br />\n<span style="font-family:arial\;"><span style="color: rgb(0\, 0\, 0)\;">Dr. Denise Roache-Davis</span></span><br />\n<span style="font-family:arial\;"><b style="color: rgb(0\, 0\, 0)\; font-family: georgia\, serif\; font-size: small\;">Trustee Place 5</b></span><br style="color: rgb(0\, 0\, 0)\; font-family: georgia\, serif\; font-size: small\;" />\n<span style="font-family:arial\;"><span style="color: rgb(0\, 0\, 0)\;">Kim Rimmer<br />\nWill Campbell<br />\nDenishea Williams</span></span></div>\n
LOCATION:Alan E. Sims Cedar Hill Recreation Center 310 E. Parkerville Rd Cedar Hill\, TX 75104
UID:e.1426.18106
SEQUENCE:3
DTSTAMP:20260423T221344Z
URL:https://www.cedarhillchamber.org/events/details/candidate-forum-2023-18106
END:VEVENT

END:VCALENDAR
