BEGIN:VCALENDAR
VERSION:2.0
PRODID:-//ChamberMaster//Event Calendar 2.0//EN
METHOD:PUBLISH
X-PUBLISHED-TTL:P3D
REFRESH-INTERVAL:P3D
CALSCALE:GREGORIAN
BEGIN:VEVENT
DTSTART:20200321T143000Z
DTEND:20200321T193000Z
X-MICROSOFT-CDO-ALLDAYEVENT:FALSE
SUMMARY:CANCELLED Girl Scout "Eco" Badge Day
DESCRIPTION:We regret to inform you that this event is cancelled due to precautions with response to Covid-19. Purchased tickets will be refunded. We hope to reschedule this event in the future. Stay safe!\n\n\n\n\n\nOpen to all Girl Scout troops. Join us for a day of Eco badges! See the schedule below:\n\n\n\n9:30 am - 11:30 am - Brownie - Eco Friend *Creating a fire will be dependent on whether a burn ban is in effect in Dallas County*\n\n\n\n10:00 am-11:00 am - Daisy - Eco Learner\n\n\n\n12:30 pm- 2:30 pm - Junior - Eco Camper * We will not be physically camping during this badge *\n\n\n\n12:30-2:30 - Cadet - Eco Trekker\n\n\n\nCost is $15/participant\, chaperones are free
X-ALT-DESC;FMTTYPE=text/html:<span style="font-size:20px\;"><span style="color:#B22222\;"><span style="font-family: system-ui\, -apple-system\, system-ui\, &quot\;.SFNSText-Regular&quot\;\, sans-serif\; white-space: pre-wrap\;"><strong>We regret to inform you that this event is cancelled due to precautions with response to Covid-19. Purchased tickets will be refunded. We hope to reschedule this event in the future. Stay safe!</strong></span></span></span><br />\n<br />\n<br />\n<span style="color:rgb(29\, 33\, 41)\; font-family:helvetica\,arial\,sans-serif\; font-size:14px">Open to all Girl Scout troops. Join us for a day of Eco badges! See the schedule below:</span><br />\n<br />\n<span style="color:rgb(29\, 33\, 41)\; font-family:helvetica\,arial\,sans-serif\; font-size:14px">9:30 am - 11:30 am - Brownie - Eco Friend *Creating a fire will be dependent on whether a burn ban is in effect in Dallas County*</span><br />\n<br />\n<span style="color:rgb(29\, 33\, 41)\; font-family:helvetica\,arial\,sans-serif\; font-size:14px">10:00 am-11:00 am - Daisy - Eco Learner</span><br />\n<br />\n<span style="color:rgb(29\, 33\, 41)\; font-family:helvetica\,arial\,sans-serif\; font-size:14px">12:30 pm- 2:30 pm - Junior - Eco Camper * We will not be physically camping during this badge *</span><br />\n<br />\n<span style="color:rgb(29\, 33\, 41)\; font-family:helvetica\,arial\,sans-serif\; font-size:14px">12:30-2:30 - Cadet - Eco Trekker</span><br />\n<br />\n<span style="color:rgb(29\, 33\, 41)\; font-family:helvetica\,arial\,sans-serif\; font-size:14px">Cost is $15/participant\, chaperones are free</span>
LOCATION:Dogwood Canyon Audubon Center 1206 W. FM 1382\, Cedar Hill\, TX 75104
UID:e.1426.16125
SEQUENCE:3
DTSTAMP:20260425T223923Z
URL:https://www.cedarhillchamber.org/events/details/cancelled-girl-scout-eco-badge-day-16125
END:VEVENT

END:VCALENDAR
