BEGIN:VCALENDAR
VERSION:2.0
PRODID:-//ChamberMaster//Event Calendar 2.0//EN
METHOD:PUBLISH
X-PUBLISHED-TTL:P3D
REFRESH-INTERVAL:P3D
CALSCALE:GREGORIAN
BEGIN:VEVENT
DTSTART:20220729T163000Z
DTEND:20220729T180000Z
X-MICROSOFT-CDO-ALLDAYEVENT:FALSE
SUMMARY:[Cancelled] Feel Good Friday - Women's Networking Lunch
DESCRIPTION:This month's event will not be held. Please join us next time!
X-ALT-DESC;FMTTYPE=text/html:This month&#39\;s event will not be held. Please join us next time!
LOCATION:
UID:e.1426.17708
SEQUENCE:3
DTSTAMP:20260423T233404Z
URL:https://www.cedarhillchamber.org/events/details/cancelled-feel-good-friday-women-s-networking-lunch-17708
END:VEVENT

END:VCALENDAR
