BEGIN:VCALENDAR
VERSION:2.0
PRODID:-//ChamberMaster//Event Calendar 2.0//EN
METHOD:PUBLISH
X-PUBLISHED-TTL:P3D
REFRESH-INTERVAL:P3D
CALSCALE:GREGORIAN
BEGIN:VEVENT
DTSTART:20200328T150000Z
DTEND:20200328T170000Z
X-MICROSOFT-CDO-ALLDAYEVENT:FALSE
SUMMARY:CANCELLED Children's Birding Adventure
DESCRIPTION:We regret to inform you that this event is cancelled due to precautions with response to Covid-19. Purchased tickets will be refunded. We hope to reschedule this event in the future. Stay safe!\n\n\n\nFor children ages six and up\, explore the world of birds as a naturalist. Learn the basic skills you need to identify birds through observation\, games and other activities. \n\n\n\nChildren must be accompanied with an adult. \n\n\n\nCost is $3/child. Register online\; walk-ups welcome.\n\n\n\nhttps://dogwoodcanyonaudubon.ticketleap.com/childrensbirdingadventure/?fbclid=IwAR0X2UibNxCI5Di-vNauf0DF5XRP7fkoB0oHTgLD4YErB-4G6anntnUC1Yc
X-ALT-DESC;FMTTYPE=text/html:<span style="color:#B22222\;"><span style="font-size:20px\;"><strong><span style="font-family: system-ui\, -apple-system\, system-ui\, &quot\;.SFNSText-Regular&quot\;\, sans-serif\; white-space: pre-wrap\;">We regret to inform you that this event is cancelled due to precautions with response to Covid-19. Purchased tickets will be refunded. We hope to reschedule this event in the future. Stay safe!</span></strong></span></span><br />\n<br />\n<span style="color:rgb(29\, 33\, 41)\; font-family:helvetica\,arial\,sans-serif\; font-size:14px">For children ages six and up\, explore the world of birds as a naturalist. Learn the basic skills you need to identify birds through observation\, games and other activities. </span><br />\n<br />\n<span style="color:rgb(29\, 33\, 41)\; font-family:helvetica\,arial\,sans-serif\; font-size:14px">Children must be accompanied with an adult. </span><br />\n<br />\n<span style="color:rgb(29\, 33\, 41)\; font-family:helvetica\,arial\,sans-serif\; font-size:14px">Cost is $3/child. Register online\; walk-ups welcome.</span><br />\n<br />\n<a href="https://dogwoodcanyonaudubon.ticketleap.com/childrensbirdingadventure/?fbclid=IwAR0X2UibNxCI5Di-vNauf0DF5XRP7fkoB0oHTgLD4YErB-4G6anntnUC1Yc">https://dogwoodcanyonaudubon.ticketleap.com/childrensbirdingadventure/?fbclid=IwAR0X2UibNxCI5Di-vNauf0DF5XRP7fkoB0oHTgLD4YErB-4G6anntnUC1Yc</a>
LOCATION:Dogwood Canyon Audubon Center 1206 W. FM 1382\, Cedar Hill\, TX 75104
UID:e.1426.16127
SEQUENCE:3
DTSTAMP:20260425T223040Z
URL:https://www.cedarhillchamber.org/events/details/cancelled-children-s-birding-adventure-16127
END:VEVENT

END:VCALENDAR
