BEGIN:VCALENDAR
VERSION:2.0
PRODID:-//ChamberMaster//Event Calendar 2.0//EN
METHOD:PUBLISH
X-PUBLISHED-TTL:P3D
REFRESH-INTERVAL:P3D
CALSCALE:GREGORIAN
BEGIN:VEVENT
DTSTART:20210611T180000Z
DTEND:20210611T190000Z
X-MICROSOFT-CDO-ALLDAYEVENT:FALSE
SUMMARY:C.Y.F.S\, Inc. 3rd Anniversary Ribbon Cutting Ceremony
DESCRIPTION:CYFS Inc. is celebrating their 3rd Anniversary and wants you to join!\n\nLet's celebrate their achievements and hard work in the community over the past three years.
X-ALT-DESC;FMTTYPE=text/html:CYFS Inc. is celebrating their 3rd Anniversary and wants you to join!<br />\nLet&#39\;s celebrate their achievements and hard work in the community over the past three years.
LOCATION:402 Lee St Cedar Hill\, TX 75104
UID:e.1426.16501
SEQUENCE:3
DTSTAMP:20260424T204905Z
URL:https://www.cedarhillchamber.org/events/details/c-y-f-s-inc-3rd-anniversary-ribbon-cutting-ceremony-16501
END:VEVENT

END:VCALENDAR
