BEGIN:VCALENDAR
VERSION:2.0
PRODID:-//ChamberMaster//Event Calendar 2.0//EN
METHOD:PUBLISH
X-PUBLISHED-TTL:P3D
REFRESH-INTERVAL:P3D
CALSCALE:GREGORIAN
BEGIN:VEVENT
DTSTART:20210701T143000Z
DTEND:20210701T153000Z
X-MICROSOFT-CDO-ALLDAYEVENT:FALSE
SUMMARY:Business on the Hill Info Session
DESCRIPTION:Our morning networking is transforming this year to Business on the Hill. This will be a program focused on referral generation with limited seating and no industry overlap per group. Join us for an information and interest session this month to learn more about the program.\n\n\n\nThis event series is an exclusive membership benefit and is offered only to Chamber members.
X-ALT-DESC;FMTTYPE=text/html:Our morning networking is transforming this year to <strong>Business on the Hill</strong>. This will be a program focused on referral generation with limited seating and no industry overlap per group. Join us for an information and interest session this month to learn more about the program.<br />\n<br />\nThis event series is an exclusive membership benefit and is offered only to Chamber members.
LOCATION:Virtual via Zoom
UID:e.1426.16430
SEQUENCE:3
DTSTAMP:20260424T192339Z
URL:https://www.cedarhillchamber.org/events/details/business-on-the-hill-info-session-16430
END:VEVENT

END:VCALENDAR
