BEGIN:VCALENDAR
VERSION:2.0
PRODID:-//ChamberMaster//Event Calendar 2.0//EN
METHOD:PUBLISH
X-PUBLISHED-TTL:P3D
REFRESH-INTERVAL:P3D
CALSCALE:GREGORIAN
BEGIN:VEVENT
DTSTART:20211202T153000Z
DTEND:20211202T163000Z
X-MICROSOFT-CDO-ALLDAYEVENT:FALSE
SUMMARY:Business on the Hill Information Session
DESCRIPTION:Our morning networking is transforming this year to Business on the Hill. This will be a program focused on referral generation with limited seating and no industry overlap per group. Join us for an information and interest session this month to learn more about the program.\n\n\n\nAlready know you want to join? Sign up for an available group or request to be waitlisted.\n\n\n\nThis event series is an exclusive membership benefit and is offered only to Chamber members.
X-ALT-DESC;FMTTYPE=text/html:Our morning networking is transforming this year to <strong>Business on the Hill</strong>. This will be a program focused on referral generation with limited seating and no industry overlap per group. Join us for an information and interest session this month to learn more about the program.<br />\n<br />\nAlready know you want to join? <a href="https://forms.gle/i3rbxYxq4foNaLA8A">Sign up for an available group or request to be waitlisted</a>.<br />\n<br />\n<em>This event series is an exclusive membership benefit and is offered only to Chamber members.</em>
LOCATION:Virtual via Zoom
UID:e.1426.16435
SEQUENCE:3
DTSTAMP:20260424T111513Z
URL:https://www.cedarhillchamber.org/events/details/business-on-the-hill-12-02-2021-16435
END:VEVENT

END:VCALENDAR
