BEGIN:VCALENDAR
VERSION:2.0
PRODID:-//ChamberMaster//Event Calendar 2.0//EN
METHOD:PUBLISH
X-PUBLISHED-TTL:P3D
REFRESH-INTERVAL:P3D
CALSCALE:GREGORIAN
BEGIN:VEVENT
DTSTART:20210422T170000Z
DTEND:20210422T210000Z
X-MICROSOFT-CDO-ALLDAYEVENT:FALSE
SUMMARY:Business Class Live
DESCRIPTION:Celebrate the Power of Connections\n\nYou're invited to Business Class LIVE\, an immersive virtual experience where you'll connect with creative business owners\, learn from acclaimed entrepreneurs\, and engage with some of the most celebrated business minds of our generation. Register today   and let's move forward\, together.\n\n\n\nYOUR EVENT SNAPSHOT\n\n	Build lasting relationships with a diverse group of fellow business owners and entrepreneurs.\n	Engage in inspiring sessions and interactive workshops designed to inspire innovation and take action.\n	Learn how to position your business toward success with through-provoking keynote speakers and discussions.\n	Celebrate your resilience and build the confidence to take on the challenges of a changing world.
X-ALT-DESC;FMTTYPE=text/html:<span style="font-size:20px\;"><strong>Celebrate the Power of Connections</strong></span><br />\n<span style="font-family: HelveticaNeue\, &quot\;Helvetica Neue&quot\;\, Helvetica\, Arial\, sans-serif\; font-size: 15px\;">You&rsquo\;re invited to Business Class LIVE\, an immersive virtual experience where you&rsquo\;ll connect with creative business owners\, learn from acclaimed entrepreneurs\, and engage with some of the most celebrated business minds of our generation. Register today &ndash\; and let&rsquo\;s move forward\, together.<br />\n<br />\nYOUR EVENT SNAPSHOT</span>\n<ul>\n	<li><span style="font-family: HelveticaNeue\, &quot\;Helvetica Neue&quot\;\, Helvetica\, Arial\, sans-serif\; font-size: 15px\;"><strong>Build </strong>lasting relationships with a diverse group of fellow business owners and entrepreneurs.</span></li>\n	<li><span style="font-family: HelveticaNeue\, &quot\;Helvetica Neue&quot\;\, Helvetica\, Arial\, sans-serif\; font-size: 15px\;"><strong>Engage </strong>in inspiring sessions and interactive workshops designed to inspire innovation and take action.</span></li>\n	<li><span style="font-family: HelveticaNeue\, &quot\;Helvetica Neue&quot\;\, Helvetica\, Arial\, sans-serif\; font-size: 15px\;"><strong>Learn</strong> how to position your business toward success with through-provoking keynote speakers and discussions.</span></li>\n	<li><span style="font-family: HelveticaNeue\, &quot\;Helvetica Neue&quot\;\, Helvetica\, Arial\, sans-serif\; font-size: 15px\;"><strong>Celebrate</strong> your resilience and build the confidence to take on the challenges of a changing world.</span></li>\n</ul>\n
LOCATION:
UID:e.1426.16445
SEQUENCE:3
DTSTAMP:20260425T001253Z
URL:https://www.cedarhillchamber.org/events/details/business-class-live-16445
END:VEVENT

END:VCALENDAR
