BEGIN:VCALENDAR
VERSION:2.0
PRODID:-//ChamberMaster//Event Calendar 2.0//EN
METHOD:PUBLISH
X-PUBLISHED-TTL:P3D
REFRESH-INTERVAL:P3D
CALSCALE:GREGORIAN
BEGIN:VEVENT
DTSTART:20201001T150000Z
DTEND:20201001T183000Z
X-MICROSOFT-CDO-ALLDAYEVENT:FALSE
SUMMARY:Business Awards
DESCRIPTION:Join us on Facebook\, we will be going live throughout the day to announce and deliver the 2019 award winners.
X-ALT-DESC;FMTTYPE=text/html:Join us on Facebook\, we will be going live throughout the day to announce and deliver the 2019 award winners.
LOCATION:
UID:e.1426.16165
SEQUENCE:3
DTSTAMP:20260425T103107Z
URL:https://www.cedarhillchamber.org/events/details/business-awards-16165
END:VEVENT

END:VCALENDAR
