BEGIN:VCALENDAR
VERSION:2.0
PRODID:-//ChamberMaster//Event Calendar 2.0//EN
METHOD:PUBLISH
X-PUBLISHED-TTL:P3D
REFRESH-INTERVAL:P3D
CALSCALE:GREGORIAN
BEGIN:VEVENT
DTSTART:20230128T150000Z
DTEND:20230128T160000Z
X-MICROSOFT-CDO-ALLDAYEVENT:FALSE
SUMMARY:Building Your Investment Strategy: Free Financial Workshop Series
DESCRIPTION:Is Today's Investing Rocking\n\nTomorrow's Retirement?\n\nThere's a sensible strategy for handling market volatility.\n\nWhether it's caused by the recent financial crisis\, the global coronavirus pandemic\, or many other unexpected events\, market volatility can test the resolve of even the most seasoned retirement investors.\n\n \n\nIn this free one-hour retirement workshop\, you'll learn:\n\n	How to put the history of bear markets in the proper perspective\n	How to recognize the investment risks that contribute to market declines\n	How to reduce volatility effects using asset allocation\n	Why diversifying your portfolio and time in the market   not market timing   count
X-ALT-DESC;FMTTYPE=text/html:<span style="color:#0B2E5E"><span style="font-family:arial\,sans-serif"><span style="font-size:36.0pt">Is Today&rsquo\;s Investing Rocking<br />\nTomorrow&rsquo\;s Retirement?</span></span></span><br />\n<span style="color:#92D6E0"><span style="font-family:arialmt"><span style="font-size:19.0pt">There&rsquo\;s a sensible strategy for handling market volatility.</span></span></span><br />\n<span style="color:black"><span style="font-family:arialmt">Whether it&#39\;s caused by the recent financial crisis\, the global coronavirus pandemic\, or many other unexpected events\, market volatility can test the resolve of even the most seasoned retirement investors.</span></span><br />\n&nbsp\;<br />\n<span style="color:black"><span style="font-family:arialmt">In this <strong>free</strong> one-hour retirement workshop\, you&rsquo\;ll learn:</span></span>\n<ul>\n	<li><span style="font-family:arialmt">How to put the history of bear markets in the proper perspective</span></li>\n	<li><span style="font-family:arialmt">How to recognize the investment risks that contribute to market declines</span></li>\n	<li><span style="font-family:arialmt">How to reduce volatility effects using asset allocation</span></li>\n	<li><span style="color:black"><span style="font-family:arialmt">Why diversifying your portfolio and time in the market &mdash\; not market timing &mdash\; count</span></span></li>\n</ul>\n&nbsp\;
LOCATION:Building your investment strategy WORKSHOP Date: Saturday\, January 28\, 2023 Time: 9 a.m. 10 a.m. Location: Cedar Hill Chamber of Commerce 300 Houston Street Cedar Hill\, TX 75104 Zoom: 529 441 7133 No Password Required
UID:e.1426.18017
SEQUENCE:3
DTSTAMP:20260423T164557Z
URL:https://www.cedarhillchamber.org/events/details/building-your-investment-strategy-free-financial-workshop-series-18017
END:VEVENT

END:VCALENDAR
