BEGIN:VCALENDAR
VERSION:2.0
PRODID:-//ChamberMaster//Event Calendar 2.0//EN
METHOD:PUBLISH
X-PUBLISHED-TTL:P3D
REFRESH-INTERVAL:P3D
CALSCALE:GREGORIAN
BEGIN:VEVENT
DTSTART:20210617T230000Z
DTEND:20210618T000000Z
X-MICROSOFT-CDO-ALLDAYEVENT:FALSE
SUMMARY:Build Your Resume Virtual Workshop
DESCRIPTION:Learn how to create the perfect resume using templates from Google Docs and Microsoft Word. We'll also explore our new Brainfuse JobNow resources that will help you get expert advice like the Resume Lab and Live Resume Assistance from a Job Coach.\n\n\n\nZoom Registration Link: https://us02web.zoom.us/meeting/register/tZcsdOugpzkuH9MxlKJjZLq2hhJ0ee6lOE22
X-ALT-DESC;FMTTYPE=text/html:<div class="m_9212958456988248672MsoListParagraph" style="margin: 0in\; font-size: 11pt\; font-family: Calibri\, sans-serif\;">Learn how to create the perfect resume using templates from Google Docs and Microsoft Word. We&rsquo\;ll also explore our new Brainfuse JobNow resources that will help you get expert advice like the Resume Lab and Live Resume Assistance from a Job Coach.</div>\n\n<div class="m_9212958456988248672MsoListParagraph" style="margin: 0in\; font-size: 11pt\; font-family: Calibri\, sans-serif\;"><br />\nZoom Registration Link:&nbsp\;<a data-saferedirecturl="https://www.google.com/url?q=https://us02web.zoom.us/meeting/register/tZcsdOugpzkuH9MxlKJjZLq2hhJ0ee6lOE22&amp\;source=gmail&amp\;ust=1623263496668000&amp\;usg=AFQjCNFDR83ljAF1sZba9TyWI8dnFoGjVA" href="https://us02web.zoom.us/meeting/register/tZcsdOugpzkuH9MxlKJjZLq2hhJ0ee6lOE22" style="color: rgb(17\, 85\, 204)\;" target="_blank">https://us02web.zoom.us/<wbr />meeting/register/<wbr />tZcsdOugpzkuH9MxlKJjZLq2hhJ0ee<wbr />6lOE22</a></div>\n
LOCATION:Virtual
UID:e.1426.16562
SEQUENCE:3
DTSTAMP:20260424T204229Z
URL:https://www.cedarhillchamber.org/events/details/build-your-resume-virtual-workshop-16562
END:VEVENT

END:VCALENDAR
