BEGIN:VCALENDAR
VERSION:2.0
PRODID:-//ChamberMaster//Event Calendar 2.0//EN
METHOD:PUBLISH
X-PUBLISHED-TTL:P3D
REFRESH-INTERVAL:P3D
CALSCALE:GREGORIAN
BEGIN:VEVENT
DTSTART:20210803T183000Z
DTEND:20210803T193000Z
X-MICROSOFT-CDO-ALLDAYEVENT:FALSE
SUMMARY:Bridges Resource Center Grand Opening
DESCRIPTION:Bridges is celebrating the Grand Opening of their new Resource Center! Join us for a ribbon cutting ceremony to kick off the newest addition to Bridges.
X-ALT-DESC;FMTTYPE=text/html:Bridges is celebrating the Grand Opening of their new Resource Center! Join us for a ribbon cutting ceremony to kick off the newest addition to Bridges.
LOCATION:800 W Belt Line Rd Cedar Hill\, TX 75104 Limited parking is available on site. Bridges invites you to park at the 1st Methodist Church across the street or next to the railroad tracks.
UID:e.1426.16940
SEQUENCE:3
DTSTAMP:20260424T174422Z
URL:https://www.cedarhillchamber.org/events/details/bridges-resource-center-grand-opening-16940
END:VEVENT

END:VCALENDAR
