BEGIN:VCALENDAR
VERSION:2.0
PRODID:-//ChamberMaster//Event Calendar 2.0//EN
METHOD:PUBLISH
X-PUBLISHED-TTL:P3D
REFRESH-INTERVAL:P3D
CALSCALE:GREGORIAN
BEGIN:VEVENT
DTSTART:20201008T140000Z
DTEND:20201008T150000Z
X-MICROSOFT-CDO-ALLDAYEVENT:FALSE
SUMMARY:Breakfast on the Hill
DESCRIPTION:Register to receive the link to join us virtually.
X-ALT-DESC;FMTTYPE=text/html:Register to receive the link to join us virtually.
LOCATION:Online
UID:e.1426.15809
SEQUENCE:3
DTSTAMP:20260425T103047Z
URL:https://www.cedarhillchamber.org/events/details/breakfast-on-the-hill-15809
END:VEVENT

END:VCALENDAR
