BEGIN:VCALENDAR
VERSION:2.0
PRODID:-//ChamberMaster//Event Calendar 2.0//EN
METHOD:PUBLISH
X-PUBLISHED-TTL:P3D
REFRESH-INTERVAL:P3D
CALSCALE:GREGORIAN
BEGIN:VEVENT
DTSTART:20230622T230000Z
DTEND:20230623T010000Z
X-MICROSOFT-CDO-ALLDAYEVENT:FALSE
SUMMARY:Bingo Night Fundraiser Hosted by Comfort Rehab
DESCRIPTION:
X-ALT-DESC;FMTTYPE=text/html:
LOCATION:
UID:e.1426.18170
SEQUENCE:3
DTSTAMP:20260424T015039Z
URL:https://www.cedarhillchamber.org/events/details/bingo-night-fundraiser-hosted-by-comfort-rehab-06-22-2023-18170
END:VEVENT

END:VCALENDAR
