BEGIN:VCALENDAR
VERSION:2.0
PRODID:-//ChamberMaster//Event Calendar 2.0//EN
METHOD:PUBLISH
X-PUBLISHED-TTL:P3D
REFRESH-INTERVAL:P3D
CALSCALE:GREGORIAN
BEGIN:VEVENT
DTSTART:20240622T170000Z
DTEND:20240622T230000Z
X-MICROSOFT-CDO-ALLDAYEVENT:FALSE
SUMMARY:BEAUTIFUL WIGS & ETC FUN SHOPPING NETWORKING EVENT
DESCRIPTION:COME AND SUPPORT SMALL BUSINESSES BEAUTIFUL WIGS & ETC DAY OF FUN\, FOOD AND FELLOWSHIP.  \n\nFREE FOOD AND A DJ.  OUR WAY TO SAY THANK YOU FOR THE SUPPORT AND FOR YOU TO HELP US STAY IN BUSINESS FOR THE SUMMER MONTHS AHEAD.
X-ALT-DESC;FMTTYPE=text/html:COME AND SUPPORT SMALL BUSINESSES BEAUTIFUL WIGS &amp\; ETC DAY OF FUN\, FOOD AND FELLOWSHIP.&nbsp\;&nbsp\;<br />\nFREE FOOD AND A DJ.&nbsp\; OUR WAY TO SAY THANK YOU FOR THE SUPPORT AND FOR YOU TO HELP US STAY IN BUSINESS FOR THE SUMMER MONTHS AHEAD.&nbsp\;&nbsp\;<br />\n<br />\n&nbsp\;
LOCATION:BEAUTIFUL WIGS & ETC IS LOCATED INSIDE HOME\, FASHIONS\, AND MORE RESALE SHOP. 901 N POLK ST\, DESOTO TX
UID:e.1426.19907
SEQUENCE:3
DTSTAMP:20260423T144809Z
URL:https://www.cedarhillchamber.org/events/details/beautiful-wigs-etc-fun-shopping-networking-event-19907
END:VEVENT

END:VCALENDAR
