BEGIN:VCALENDAR
VERSION:2.0
PRODID:-//ChamberMaster//Event Calendar 2.0//EN
METHOD:PUBLISH
X-PUBLISHED-TTL:P3D
REFRESH-INTERVAL:P3D
CALSCALE:GREGORIAN
BEGIN:VEVENT
DTSTART:20230114T150000Z
DTEND:20230114T161500Z
X-MICROSOFT-CDO-ALLDAYEVENT:FALSE
SUMMARY:Basics of Managing Debt: Two Keys to Taking on Debt & Managing Credit Card Debt Wisely
DESCRIPTION:The Basics of Managing Debt\n\nTwo Keys to Taking on Debt\n\nManaging Credit Card Debt Wisely\n\nIt's practically impossible not to have some debt during your lifetime.  Most Americans have loans and many college students typically graduate owing tens of thousands of dollars in student debt.  According to a 2018 report from NerdWallet (updated in mid-2019)\, the aggregate level of U.S. household debt has never been higher. \n\nBeing in debt Is certainly no fun\, and it can sometimes take over your financial life.  For a lot of people\, debt can make it hard to cover even your everyday living expenses\, not to mention saving for retirement or other financial goals.\n\n\n\nSecurities and advisory services offered through LPL Financial\, a registered investment advisor. Member FINRA/SIPC.\n\nThis material was prepared by LPL Financial for educational and informational purposes only and is not intended as ERISA\, tax\, legal or investment advice. If you are seeking investment advice specific to your needs\, such advice services must be obtained on your own separate from this educational material.
X-ALT-DESC;FMTTYPE=text/html:<span style="color:#0B2E5E"><span style="font-family:arial\,sans-serif"><span style="font-size:36.0pt">The Basics of Managing Debt</span></span></span><br />\n<span style="color:#92D6E0"><span style="font-family:arialmt"><span style="font-size:19.0pt">Two Keys to Taking on Debt</span></span></span><br />\n<span style="color:#92D6E0"><span style="font-family:arialmt"><span style="font-size:19.0pt">Managing Credit Card Debt Wisely</span></span></span><br />\n<span style="font-family:arialmt"><span style="font-size:14.0pt">It&#39\;s practically impossible not to have some debt during your lifetime.&nbsp\; Most Americans have loans and many college students typically graduate owing tens of thousands of dollars in student debt.&nbsp\; According to a 2018 report from NerdWallet (updated in mid-2019)\, the aggregate level of U.S. household debt has never been higher. </span></span><br />\n<span style="font-family:arialmt"><span style="font-size:14.0pt">Being in debt Is certainly no fun\, and it can sometimes take over your financial life.&nbsp\; For a lot of people\, debt can make it hard to cover even your everyday living expenses\, not to mention saving for retirement or other financial goals.</span></span><br />\n<br />\n<em><span style="font-family:alegreya"><span style="font-size:10.0pt">Securities and advisory services offered through LPL Financial\, a registered investment advisor. Member FINRA/SIPC.</span></span></em><br />\n<span style="color:windowtext"><span style="font-size:7.0pt">This material was prepared by LPL Financial for educational and informational purposes only and is not intended as ERISA\, tax\, legal or investment advice. If you are seeking investment advice specific to your needs\, such advice services must be obtained on your own separate from this educational material.</span></span><br />\n<br />\n<br />\n<br />\n&nbsp\;
LOCATION:Cedar Hill Chamber of Commerce Boardroom 300 Houston Street Cedar Hill\, TX 75104 OR Zoom: 529 441 7133 No password required
UID:e.1426.18001
SEQUENCE:3
DTSTAMP:20260423T164613Z
URL:https://www.cedarhillchamber.org/events/details/basics-of-managing-debt-two-keys-to-taking-on-debt-managing-credit-card-debt-wisely-18001
END:VEVENT

END:VCALENDAR
