BEGIN:VCALENDAR
VERSION:2.0
PRODID:-//ChamberMaster//Event Calendar 2.0//EN
METHOD:PUBLISH
X-PUBLISHED-TTL:P3D
REFRESH-INTERVAL:P3D
CALSCALE:GREGORIAN
BEGIN:VEVENT
DTSTART:20230204T150000Z
DTEND:20230204T160000Z
X-MICROSOFT-CDO-ALLDAYEVENT:FALSE
SUMMARY:Basics of Estate Planning: Free Financial Workshop Series
DESCRIPTION:THE BASICS OF ESTATE PLANNING\n\nSix Things to Know About Estate Planning\n\nEstate planning is the process of designating who will receive your assets and\n\nhandle your responsibilities after your death or incapacitation. One of the goals\n\nis to make sure your beneficiaries receive these things in the most cost-effective\n\nway possible. Estate planning can help establish a platform you can fine-tune as\n\nyour personal and financial situations change. The key question to ask yourself\n\nis: how do you want your assets distributed if you die or are incapacitated?
X-ALT-DESC;FMTTYPE=text/html:<span style="font-size:20px"><span style="color:#000D9F"><span style="font-family:tungstennarrow-book\,sans-serif">THE BASICS OF ESTATE PLANNING</span></span></span><br>\n<span style="color:#000D9F"><span style="font-family:tungstennarrow-book\,sans-serif"><span style="font-size:28.0pt"><span style="font-size:20px">Six Things to Know About Estate Planning</span></span></span><br>\n<span style="font-family:univers\,sans-serif"><span style="font-size:12.0pt">Estate planning is the process of designating who will receive your assets and</span></span></span><br>\n<span style="color:#000D9F"><span style="font-family:univers\,sans-serif"><span style="font-size:12.0pt">handle your responsibilities after your death or incapacitation. One of the goals</span></span></span><br>\n<span style="color:#000D9F"><span style="font-family:univers\,sans-serif"><span style="font-size:12.0pt">is to make sure your beneficiaries receive these things in the most cost-effective</span></span></span><br>\n<span style="color:#000D9F"><span style="font-family:univers\,sans-serif"><span style="font-size:12.0pt">way possible. Estate planning can help establish a platform you can fine-tune as</span></span></span><br>\n<span style="color:#000D9F"><span style="font-family:univers\,sans-serif"><span style="font-size:12.0pt">your personal and financial situations change. The key question to ask yourself</span></span></span><br>\n<span style="color:#000D9F"><span style="font-family:univers\,sans-serif"><span style="font-size:12.0pt">is: how do you want your assets distributed if you die or are incapacitated?</span></span></span><br>\n<br>\n&nbsp\;
LOCATION:BASICS OF ESTATE PLANNING WORKSHOP Date: Saturday\, February 4\, 2023 Times (Choose one): 9 a.m. ? 10 a.m. Location: Cedar Hill Chamber of Commerce 300 Houston Street Cedar Hill\, TX 75104 Zoom: 529 441 7133 No Password Required
UID:e.1426.18018
SEQUENCE:3
DTSTAMP:20260423T183653Z
URL:https://www.cedarhillchamber.org/events/details/basics-of-estate-planning-free-financial-workshop-series-18018
END:VEVENT

END:VCALENDAR
