BEGIN:VCALENDAR
VERSION:2.0
PRODID:-//ChamberMaster//Event Calendar 2.0//EN
METHOD:PUBLISH
X-PUBLISHED-TTL:P3D
REFRESH-INTERVAL:P3D
CALSCALE:GREGORIAN
BEGIN:VEVENT
DTSTART:20210525T170000Z
DTEND:20210525T180000Z
X-MICROSOFT-CDO-ALLDAYEVENT:FALSE
SUMMARY:Back to Business: Restarting Main Street in the Wake of COVID-19
DESCRIPTION:After more than one year of lockdowns\, devastating illness\, and social unrest\, there are signs that across the country customers are returning and Main Streets are getting back to business. What are small business owners thinking and what do they expect the future to hold? What does the Biden-Harris Administration's $1.9 trillion coronavirus relief package mean for small businesses?\n\n \n\nJoin Reimagine Main Street\, along with our partners and special guests as we share: \n\n\n	Findings from our most recent national survey of diverse small business owners\n	New insights into the impact of small business relief programs \n	Exciting new announcements
X-ALT-DESC;FMTTYPE=text/html:<p class="m-size-14 m-text-align-center size-18 text-align-left" style="box-sizing: border-box\; border: 0px solid rgb(55\, 176\, 186)\; -webkit-font-smoothing: antialiased\; margin-top: 0px\; margin-bottom: 0px\; -webkit-tap-highlight-color: transparent\; color: rgb(35\, 31\, 32)\; font-family: Helvetica\; font-size: 18px !important\; background-attachment: scroll !important\;"><span style="font-family:arial\;"><span class="m-font-size-14 font-size-18" style="box-sizing: border-box\; border: 0px solid rgb(55\, 176\, 186)\; -webkit-font-smoothing: antialiased\; -webkit-tap-highlight-color: transparent\; display: initial\; background-attachment: scroll !important\;">After more than one year of lockdowns\, devastating illness\, and social unrest\, there are signs that across the country customers are returning and Main Streets are getting back to business. What are small business owners thinking and what do they expect the future to hold? What does the Biden-Harris Administration&rsquo\;s $1.9 trillion coronavirus relief package mean for small businesses?</span></span></p>\n\n<p class="text-align-center" style="box-sizing: border-box\; border: 0px solid rgb(55\, 176\, 186)\; -webkit-font-smoothing: antialiased\; margin-top: 0px\; margin-bottom: 0px\; -webkit-tap-highlight-color: transparent\; color: rgb(35\, 31\, 32)\; font-family: Helvetica\; font-size: 16px\; text-align: center !important\; background-attachment: scroll !important\;">&nbsp\;</p>\n\n<p class="m-size-14 m-text-align-center size-18 text-align-left" style="box-sizing: border-box\; border: 0px solid rgb(55\, 176\, 186)\; -webkit-font-smoothing: antialiased\; margin-top: 0px\; margin-bottom: 0px\; -webkit-tap-highlight-color: transparent\; color: rgb(35\, 31\, 32)\; font-family: Helvetica\; font-size: 18px !important\; background-attachment: scroll !important\;"><span style="font-family:arial\;"><span class="m-font-size-14 font-size-18" style="box-sizing: border-box\; border: 0px solid rgb(55\, 176\, 186)\; -webkit-font-smoothing: antialiased\; -webkit-tap-highlight-color: transparent\; display: initial\; background-attachment: scroll !important\;">Join&nbsp\;</span><a class="m-font-size-14 font-size-18" href="https://ppsi.us16.list-manage.com/track/click?u=99dfbece4edb93fefac431693&amp\;id=1a7ff91e6c&amp\;e=3f79ef57ae" runtime_url="https://ppsi.us16.list-manage.com/track/click?u=99dfbece4edb93fefac431693&amp\;id=1a7ff91e6c&amp\;e=3f79ef57ae" style="box-sizing: border-box\; border: 0px solid rgb(55\, 176\, 186)\; vertical-align: initial\; -webkit-font-smoothing: antialiased\; color: rgb(17\, 84\, 144)\; outline: 0px\; -webkit-tap-highlight-color: transparent\; display: initial\; font-family: Poppins\; background-attachment: scroll !important\;" target="_blank">Reimagine Main Street</a><span class="m-font-size-14 font-size-18" style="box-sizing: border-box\; border: 0px solid rgb(55\, 176\, 186)\; -webkit-font-smoothing: antialiased\; -webkit-tap-highlight-color: transparent\; display: initial\; background-attachment: scroll !important\;">\, along with our partners and special guests as we share:&nbsp\;</span></span></p>\n\n<ul>\n	<li class="m-size-14 m-text-align-center size-18 text-align-left" style="box-sizing: border-box\; border: 0px solid rgb(55\, 176\, 186)\; -webkit-font-smoothing: antialiased\; margin-top: 0px\; margin-bottom: 0px\; -webkit-tap-highlight-color: transparent\; color: rgb(35\, 31\, 32)\; font-family: Helvetica\; font-size: 18px !important\; background-attachment: scroll !important\;"><span style="font-family:arial\;">Findings from our most recent national survey of diverse small business owners</span></li>\n	<li class="m-size-14 m-text-align-center size-18 text-align-left" style="box-sizing: border-box\; border: 0px solid rgb(55\, 176\, 186)\; -webkit-font-smoothing: antialiased\; margin-top: 0px\; margin-bottom: 0px\; -webkit-tap-highlight-color: transparent\; color: rgb(35\, 31\, 32)\; font-family: Helvetica\; font-size: 18px !important\; background-attachment: scroll !important\;"><span style="font-family:arial\;"><span class="m-font-size-14 font-size-18" style="box-sizing: border-box\; border: 0px solid rgb(55\, 176\, 186)\; -webkit-font-smoothing: antialiased\; -webkit-tap-highlight-color: transparent\; display: initial\; background-attachment: scroll !important\;">New insights into the impact of small business relief programs&nbsp\;</span></span></li>\n	<li class="m-size-14 m-text-align-center size-18 text-align-left" style="box-sizing: border-box\; border: 0px solid rgb(55\, 176\, 186)\; -webkit-font-smoothing: antialiased\; margin-top: 0px\; margin-bottom: 0px\; -webkit-tap-highlight-color: transparent\; color: rgb(35\, 31\, 32)\; font-family: Helvetica\; font-size: 18px !important\; background-attachment: scroll !important\;"><span style="font-family:arial\;"><span class="m-font-size-14 font-size-18" style="box-sizing: border-box\; border: 0px solid rgb(55\, 176\, 186)\; -webkit-font-smoothing: antialiased\; -webkit-tap-highlight-color: transparent\; display: initial\; background-attachment: scroll !important\;">Exciting new announcements&nbsp\;</span></span></li>\n</ul>\n
LOCATION:
UID:e.1426.16545
SEQUENCE:3
DTSTAMP:20260424T224534Z
URL:https://www.cedarhillchamber.org/events/details/back-to-business-restarting-main-street-in-the-wake-of-covid-19-16545
END:VEVENT

END:VCALENDAR
