BEGIN:VCALENDAR
VERSION:2.0
PRODID:-//ChamberMaster//Event Calendar 2.0//EN
METHOD:PUBLISH
X-PUBLISHED-TTL:P3D
REFRESH-INTERVAL:P3D
CALSCALE:GREGORIAN
BEGIN:VEVENT
DTSTART:20210607T170000Z
DTEND:20210611T170000Z
X-MICROSOFT-CDO-ALLDAYEVENT:FALSE
SUMMARY:Audubon Texas-Dogwood Canyon Audubon Center\, Environmental Stewardship Camp For Young Women
DESCRIPTION:This summer\, we are offering our first Environmental Stewardship Summer Camp for gender-identifying females between the ages of 12-15. Our four separate one-week summer camp programs are geared toward those who have interests in the outdoors\, hiking\, nature\, birding\, environmental science\, and environmental stewardship. No prior experience in these fields is required. Participants will experience Audubon's immersive hands-on approach to real-world\, science-based learning that leads to building confidence in outdoor activities and adventure while having fun and gaining skills transferable to everyday life. Application and registration required and no walk-ups will be accepted. Audubon Texas is a Texan by Nature Conservation Partner.
X-ALT-DESC;FMTTYPE=text/html:This summer\, we are offering our first Environmental Stewardship Summer Camp for gender-identifying females between the ages of 12-15. Our four separate one-week summer camp programs are geared toward those who have interests in the outdoors\, hiking\, nature\, birding\, environmental science\, and environmental stewardship. No prior experience in these fields is required. Participants will experience Audubon&#39\;s immersive hands-on approach to real-world\, science-based learning that leads to building confidence in outdoor activities and adventure while having fun and gaining skills transferable to everyday life. Application and registration required and no walk-ups will be accepted. Audubon Texas is a Texan by Nature Conservation Partner.
LOCATION:Dogwood Canyon Audubon Center 1206 West F.M. 1382 Cedar Hill\, TX 75104
UID:e.1426.16556
SEQUENCE:3
DTSTAMP:20260424T204943Z
URL:https://www.cedarhillchamber.org/events/details/audubon-texas-dogwood-canyon-audubon-center-environmental-stewardship-camp-for-young-women-16556
END:VEVENT

END:VCALENDAR
