BEGIN:VCALENDAR
VERSION:2.0
PRODID:-//ChamberMaster//Event Calendar 2.0//EN
METHOD:PUBLISH
X-PUBLISHED-TTL:P3D
REFRESH-INTERVAL:P3D
CALSCALE:GREGORIAN
BEGIN:VEVENT
DTSTART:20210610T150000Z
DTEND:20210610T160000Z
X-MICROSOFT-CDO-ALLDAYEVENT:FALSE
SUMMARY:API Precision Machining\, Inc. Ribbon Cutting Celebration
DESCRIPTION:API Precision Machining\, Inc. invites you to attend the ribbon cutting celebration of its new manufacturing facility.\n\nJoin us in welcoming them to their new Cedar Hill location!
X-ALT-DESC;FMTTYPE=text/html:API Precision Machining\, Inc. invites you to attend the ribbon cutting celebration of its new manufacturing facility.<br />\nJoin us in welcoming them to their new Cedar Hill location!
LOCATION:1401 Edgefield Way Cedar Hill\, TX 75104
UID:e.1426.16519
SEQUENCE:3
DTSTAMP:20260424T204409Z
URL:https://www.cedarhillchamber.org/events/details/api-precision-machining-inc-ribbon-cutting-celebration-16519
END:VEVENT

END:VCALENDAR
