BEGIN:VCALENDAR
VERSION:2.0
PRODID:-//ChamberMaster//Event Calendar 2.0//EN
METHOD:PUBLISH
X-PUBLISHED-TTL:P3D
REFRESH-INTERVAL:P3D
CALSCALE:GREGORIAN
BEGIN:VEVENT
DTSTART:20230416T230000Z
DTEND:20230417T000000Z
X-MICROSOFT-CDO-ALLDAYEVENT:FALSE
SUMMARY:A Sound Journey at The Aura House
DESCRIPTION:Join us at The Aura House for a sound bath experience. Through the use of a variety of instruments\, including singing bowls\, drift into deep relaxation and reset\, renew\, and rest.\n\nJust show up\, allow the sound to do the rest.\n\nPlease free free to bring a blanket and a cushion so we can get cozy and can fully relax. You may also wish to bring a journal and pen.\n\nSpaces are limited and booking is required in advance.
X-ALT-DESC;FMTTYPE=text/html:<p>Join us at The Aura House for a sound bath experience. Through the use of a variety of instruments\, including singing bowls\, drift into deep relaxation and reset\, renew\, and rest.</p>\n\n<p>Just show up\, allow the sound to do the rest.</p>\n\n<p>Please free free to bring a blanket and a cushion so we can get cozy and can fully relax. You may also wish to bring a journal and pen.</p>\n\n<p>Spaces are limited and booking is required in advance.</p>\n
LOCATION:The Aura House: Yoga and Meditation Studio 917 N. Joe Wilson Rd. B101 Cedar Hill\, TX 75104
UID:e.1426.18108
SEQUENCE:3
DTSTAMP:20260423T221814Z
URL:https://www.cedarhillchamber.org/events/details/a-sound-journey-at-the-aura-house-18108
END:VEVENT

END:VCALENDAR
