BEGIN:VCALENDAR
VERSION:2.0
PRODID:-//ChamberMaster//Event Calendar 2.0//EN
METHOD:PUBLISH
X-PUBLISHED-TTL:P3D
REFRESH-INTERVAL:P3D
CALSCALE:GREGORIAN
BEGIN:VEVENT
DTSTART:20201003T190000Z
DTEND:20201003T220000Z
X-MICROSOFT-CDO-ALLDAYEVENT:FALSE
SUMMARY:50 For 50 - H.E.R. Shoetique
DESCRIPTION:The first 50 women who have a business to come in between the hours of 2-5 PM will get a FREE pair of shoes of their choice!\n\n\n\nHosted by Shavonda with a "V"\n\nLive entertainment by Don Diego
X-ALT-DESC;FMTTYPE=text/html:The first 50 women who have a business to come in between the hours of 2-5 PM will get a FREE pair of shoes of their choice!<br />\n<br />\nHosted by Shavonda with a &quot\;V&quot\;<br />\nLive entertainment by Don Diego<br />\n&nbsp\;
LOCATION:125 N Clark Rd Suite 110 Cedar Hill\, TX 75104
UID:e.1426.16163
SEQUENCE:3
DTSTAMP:20260425T103130Z
URL:https://www.cedarhillchamber.org/events/details/50-for-50-h-e-r-shoetique-16163
END:VEVENT

END:VCALENDAR
