BEGIN:VCALENDAR
VERSION:2.0
PRODID:-//ChamberMaster//Event Calendar 2.0//EN
METHOD:PUBLISH
X-PUBLISHED-TTL:P3D
REFRESH-INTERVAL:P3D
CALSCALE:GREGORIAN
BEGIN:VEVENT
DTSTART:20201008T230000Z
DTEND:20201009T010000Z
X-MICROSOFT-CDO-ALLDAYEVENT:FALSE
SUMMARY:2020 CHISD Board of Trustees Candidate Forum
DESCRIPTION:To learn more\, visit the Candidate Forum page.\n\nSubmit your question for the candidates here.
X-ALT-DESC;FMTTYPE=text/html:To learn more\, visit the <a href="https://www.cedarhillchamber.org/candidate-forum">Candidate Forum page</a>.<br />\nSubmit your question for the candidates <a href="https://www.cedarhillchamber.org/form/view/21195">here</a>.
LOCATION:Online
UID:e.1426.16166
SEQUENCE:3
DTSTAMP:20260425T115647Z
URL:https://www.cedarhillchamber.org/events/details/2020-chisd-board-of-trustees-candidate-forum-16166
END:VEVENT

END:VCALENDAR
